BEGIN:VCALENDAR
VERSION:2.0
PRODID:-//Grace UMC- Moorhead, MN - ECPv6.15.20//NONSGML v1.0//EN
CALSCALE:GREGORIAN
METHOD:PUBLISH
X-WR-CALNAME:Grace UMC- Moorhead, MN
X-ORIGINAL-URL:http://graceumcmoorhead.org
X-WR-CALDESC:Events for Grace UMC- Moorhead, MN
REFRESH-INTERVAL;VALUE=DURATION:PT1H
X-Robots-Tag:noindex
X-PUBLISHED-TTL:PT1H
BEGIN:VTIMEZONE
TZID:America/Chicago
BEGIN:DAYLIGHT
TZOFFSETFROM:-0600
TZOFFSETTO:-0500
TZNAME:CDT
DTSTART:20250309T080000
END:DAYLIGHT
BEGIN:STANDARD
TZOFFSETFROM:-0500
TZOFFSETTO:-0600
TZNAME:CST
DTSTART:20251102T070000
END:STANDARD
BEGIN:DAYLIGHT
TZOFFSETFROM:-0600
TZOFFSETTO:-0500
TZNAME:CDT
DTSTART:20260308T080000
END:DAYLIGHT
BEGIN:STANDARD
TZOFFSETFROM:-0500
TZOFFSETTO:-0600
TZNAME:CST
DTSTART:20261101T070000
END:STANDARD
BEGIN:DAYLIGHT
TZOFFSETFROM:-0600
TZOFFSETTO:-0500
TZNAME:CDT
DTSTART:20270314T080000
END:DAYLIGHT
BEGIN:STANDARD
TZOFFSETFROM:-0500
TZOFFSETTO:-0600
TZNAME:CST
DTSTART:20271107T070000
END:STANDARD
END:VTIMEZONE
BEGIN:VEVENT
DTSTART;TZID=America/Chicago:20260924T190000
DTEND;TZID=America/Chicago:20260924T190000
DTSTAMP:20260421T214227
CREATED:20260203T183329Z
LAST-MODIFIED:20260203T183329Z
UID:2598-1790276400-1790276400@graceumcmoorhead.org
SUMMARY:NA Meeting
DESCRIPTION:This is a peer-led recovery group whose mission is to support individuals on their path of recovery from addiction.
URL:http://graceumcmoorhead.org/event/na-meeting-92/
CATEGORIES:Outreach
END:VEVENT
BEGIN:VEVENT
DTSTART;TZID=America/Chicago:20260925T090000
DTEND;TZID=America/Chicago:20260925T090000
DTSTAMP:20260421T214227
CREATED:20260201T225025Z
LAST-MODIFIED:20260201T225025Z
UID:2017-1790326800-1790326800@graceumcmoorhead.org
SUMMARY:REC Office Hours
DESCRIPTION:9 am – 4 pm  \nAt REC\, we’re here to support your recovery journey with peer support services. Our programs and support groups aim to make long-term recovery accessible for everyone. You’re not alone; we’re here to help.
URL:http://graceumcmoorhead.org/event/rec-office-hours-163/
CATEGORIES:Outreach
END:VEVENT
BEGIN:VEVENT
DTSTART;TZID=America/Chicago:20260926T110000
DTEND;TZID=America/Chicago:20260926T110000
DTSTAMP:20260421T214227
CREATED:20260203T034604Z
LAST-MODIFIED:20260203T170546Z
UID:2435-1790420400-1790420400@graceumcmoorhead.org
SUMMARY:Recovery Dharma
DESCRIPTION:Recovery Dharma is a peer-led\, grass-roots\, democratically-structured organization. Our mission is to support individuals on their path of recovery from addiction using Buddhist practices and principles. We believe that the traditional Buddhist teachings\, often referred to as the Dharma\, offer a powerful approach to healing from addiction and living a life of true freedom.  \nQuoted from the Recovery Dharma website.
URL:http://graceumcmoorhead.org/event/recovery-dharma-39/
CATEGORIES:Outreach
END:VEVENT
BEGIN:VEVENT
DTSTART;TZID=America/Chicago:20260926T120000
DTEND;TZID=America/Chicago:20260926T120000
DTSTAMP:20260421T214227
CREATED:20260303T222738Z
LAST-MODIFIED:20260303T222738Z
UID:3046-1790424000-1790424000@graceumcmoorhead.org
SUMMARY:Never Alone NA Meeting
DESCRIPTION:This is a peer-led recovery group whose mission is to support individuals on their path of recovery from addiction.
URL:http://graceumcmoorhead.org/event/never-alone-na-meeting-39/
CATEGORIES:Outreach
END:VEVENT
BEGIN:VEVENT
DTSTART;TZID=America/Chicago:20260928T090000
DTEND;TZID=America/Chicago:20260928T090000
DTSTAMP:20260421T214227
CREATED:20260201T225025Z
LAST-MODIFIED:20260201T225025Z
UID:2018-1790586000-1790586000@graceumcmoorhead.org
SUMMARY:REC Office Hours
DESCRIPTION:9 am – 4 pm  \nAt REC\, we’re here to support your recovery journey with peer support services. Our programs and support groups aim to make long-term recovery accessible for everyone. You’re not alone; we’re here to help.
URL:http://graceumcmoorhead.org/event/rec-office-hours-164/
CATEGORIES:Outreach
END:VEVENT
BEGIN:VEVENT
DTSTART;TZID=America/Chicago:20260928T130000
DTEND;TZID=America/Chicago:20260928T130000
DTSTAMP:20260421T214227
CREATED:20260127T005713Z
LAST-MODIFIED:20260127T005713Z
UID:840-1790600400-1790600400@graceumcmoorhead.org
SUMMARY:Quilting Ministry
DESCRIPTION:Our quilting group plans to meet this afternoon at the church\, contingent on the weather. Should you have any inquiries regarding today’s meeting\, please contact the church office.
URL:http://graceumcmoorhead.org/event/quilting-ministry-39/
CATEGORIES:Ministry
ATTACH;FMTTYPE=image/png:http://graceumcmoorhead.org/wp-content/uploads/2026/01/Quilters-Graphic-1-e1769475176168.png
END:VEVENT
BEGIN:VEVENT
DTSTART;TZID=America/Chicago:20260929T090000
DTEND;TZID=America/Chicago:20260929T090000
DTSTAMP:20260421T214227
CREATED:20260201T225025Z
LAST-MODIFIED:20260201T225025Z
UID:2019-1790672400-1790672400@graceumcmoorhead.org
SUMMARY:REC Office Hours
DESCRIPTION:9 am – 4 pm  \nAt REC\, we’re here to support your recovery journey with peer support services. Our programs and support groups aim to make long-term recovery accessible for everyone. You’re not alone; we’re here to help.
URL:http://graceumcmoorhead.org/event/rec-office-hours-165/
CATEGORIES:Outreach
END:VEVENT
BEGIN:VEVENT
DTSTART;TZID=America/Chicago:20260929T190000
DTEND;TZID=America/Chicago:20260929T190000
DTSTAMP:20260421T214227
CREATED:20260130T000041Z
LAST-MODIFIED:20260130T000041Z
UID:1078-1790708400-1790708400@graceumcmoorhead.org
SUMMARY:AA Meeting
DESCRIPTION:*In-person \n*closed \n*Daily reflections \nClosed meetings are for AA members only\, or those who have a drinking problem and “have a desire to stop drinking”.
URL:http://graceumcmoorhead.org/event/aa-meeting-39/
CATEGORIES:Outreach
ATTACH;FMTTYPE=image/jpeg:http://graceumcmoorhead.org/wp-content/uploads/2026/01/aa-jet-272x133-1.jpg
END:VEVENT
BEGIN:VEVENT
DTSTART;TZID=America/Chicago:20260930T073000
DTEND;TZID=America/Chicago:20260930T073000
DTSTAMP:20260421T214227
CREATED:20260217T164458Z
LAST-MODIFIED:20260217T164458Z
UID:2937-1790753400-1790753400@graceumcmoorhead.org
SUMMARY:We're Making Donuts
DESCRIPTION:Grace is affectionately known as “The Donut Church”! Beginning January 7 and continuing every other Wednesday until mid-November\, a group gathers in the kitchen to make handmade\, old-fashioned buttermilk cake donuts. They’re only $10 per dozen. Since the batch size is limited\, please place your orders online or by calling the church office at 218-233-1857 before Tuesday of this week.
URL:http://graceumcmoorhead.org/event/were-making-donuts-66/
CATEGORIES:Ministry
ATTACH;FMTTYPE=image/png:http://graceumcmoorhead.org/wp-content/uploads/2026/01/donut-happiness-272x184-1.png
END:VEVENT
BEGIN:VEVENT
DTSTART;TZID=America/Chicago:20260930T090000
DTEND;TZID=America/Chicago:20260930T090000
DTSTAMP:20260421T214227
CREATED:20260201T225025Z
LAST-MODIFIED:20260201T225025Z
UID:2020-1790758800-1790758800@graceumcmoorhead.org
SUMMARY:REC Office Hours
DESCRIPTION:9 am – 4 pm  \nAt REC\, we’re here to support your recovery journey with peer support services. Our programs and support groups aim to make long-term recovery accessible for everyone. You’re not alone; we’re here to help.
URL:http://graceumcmoorhead.org/event/rec-office-hours-166/
CATEGORIES:Outreach
END:VEVENT
BEGIN:VEVENT
DTSTART;TZID=America/Chicago:20260930T163000
DTEND;TZID=America/Chicago:20260930T163000
DTSTAMP:20260421T214227
CREATED:20260127T003428Z
LAST-MODIFIED:20260127T003507Z
UID:735-1790785800-1790785800@graceumcmoorhead.org
SUMMARY:Prayer Shawl Ministry
DESCRIPTION:Our prayer shawl ministry is meeting this afternoon at the church weather permitting.  If you have questions as to whether or not this group is meeting today please contact the church office.
URL:http://graceumcmoorhead.org/event/prayer-shawl-ministry-12/
CATEGORIES:Ministry
ATTACH;FMTTYPE=image/png:http://graceumcmoorhead.org/wp-content/uploads/2026/01/prayer-shawl-1-e1769473876288.png
END:VEVENT
BEGIN:VEVENT
DTSTART;TZID=America/Chicago:20260930T201500
DTEND;TZID=America/Chicago:20260930T201500
DTSTAMP:20260421T214227
CREATED:20260203T183231Z
LAST-MODIFIED:20260203T183231Z
UID:2544-1790799300-1790799300@graceumcmoorhead.org
SUMMARY:NA Meeting
DESCRIPTION:This is a peer-led recovery group whose mission is to support individuals on their path of recovery from addiction.
URL:http://graceumcmoorhead.org/event/na-meeting-39/
CATEGORIES:Outreach
END:VEVENT
BEGIN:VEVENT
DTSTART;TZID=America/Chicago:20261001T090000
DTEND;TZID=America/Chicago:20261001T090000
DTSTAMP:20260421T214227
CREATED:20260201T225025Z
LAST-MODIFIED:20260201T225025Z
UID:2021-1790845200-1790845200@graceumcmoorhead.org
SUMMARY:REC Office Hours
DESCRIPTION:9 am – 4 pm  \nAt REC\, we’re here to support your recovery journey with peer support services. Our programs and support groups aim to make long-term recovery accessible for everyone. You’re not alone; we’re here to help.
URL:http://graceumcmoorhead.org/event/rec-office-hours-167/
CATEGORIES:Outreach
END:VEVENT
BEGIN:VEVENT
DTSTART;TZID=America/Chicago:20261001T100000
DTEND;TZID=America/Chicago:20261001T100000
DTSTAMP:20260421T214227
CREATED:20260130T224641Z
LAST-MODIFIED:20260130T224641Z
UID:1408-1790848800-1790848800@graceumcmoorhead.org
SUMMARY:The Connection
DESCRIPTION:We’re a friendly group that gets together every week to connect! There’s no set agenda or specific topic; sometimes we all chat together\, and other times there are several conversations happening at once. There have even been times when we’ve enjoyed a fun card game! We’d love for you to join us—our coffee and cocoa are always hot\, and the laughs are endless!
URL:http://graceumcmoorhead.org/event/the-connection-61/
CATEGORIES:Ministry
ATTACH;FMTTYPE=image/png:http://graceumcmoorhead.org/wp-content/uploads/2026/01/The-Connection-1-e1769808415140-RZyckH.png
END:VEVENT
BEGIN:VEVENT
DTSTART;TZID=America/Chicago:20261001T190000
DTEND;TZID=America/Chicago:20261001T190000
DTSTAMP:20260421T214227
CREATED:20260203T183329Z
LAST-MODIFIED:20260203T183329Z
UID:2599-1790881200-1790881200@graceumcmoorhead.org
SUMMARY:NA Meeting
DESCRIPTION:This is a peer-led recovery group whose mission is to support individuals on their path of recovery from addiction.
URL:http://graceumcmoorhead.org/event/na-meeting-93/
CATEGORIES:Outreach
END:VEVENT
BEGIN:VEVENT
DTSTART;TZID=America/Chicago:20261002T090000
DTEND;TZID=America/Chicago:20261002T090000
DTSTAMP:20260421T214227
CREATED:20260201T225025Z
LAST-MODIFIED:20260201T225025Z
UID:2022-1790931600-1790931600@graceumcmoorhead.org
SUMMARY:REC Office Hours
DESCRIPTION:9 am – 4 pm  \nAt REC\, we’re here to support your recovery journey with peer support services. Our programs and support groups aim to make long-term recovery accessible for everyone. You’re not alone; we’re here to help.
URL:http://graceumcmoorhead.org/event/rec-office-hours-168/
CATEGORIES:Outreach
END:VEVENT
BEGIN:VEVENT
DTSTART;TZID=America/Chicago:20261003T110000
DTEND;TZID=America/Chicago:20261003T110000
DTSTAMP:20260421T214227
CREATED:20260203T034604Z
LAST-MODIFIED:20260203T170546Z
UID:2436-1791025200-1791025200@graceumcmoorhead.org
SUMMARY:Recovery Dharma
DESCRIPTION:Recovery Dharma is a peer-led\, grass-roots\, democratically-structured organization. Our mission is to support individuals on their path of recovery from addiction using Buddhist practices and principles. We believe that the traditional Buddhist teachings\, often referred to as the Dharma\, offer a powerful approach to healing from addiction and living a life of true freedom.  \nQuoted from the Recovery Dharma website.
URL:http://graceumcmoorhead.org/event/recovery-dharma-40/
CATEGORIES:Outreach
END:VEVENT
BEGIN:VEVENT
DTSTART;TZID=America/Chicago:20261003T120000
DTEND;TZID=America/Chicago:20261003T120000
DTSTAMP:20260421T214227
CREATED:20260303T222738Z
LAST-MODIFIED:20260303T222738Z
UID:3047-1791028800-1791028800@graceumcmoorhead.org
SUMMARY:Never Alone NA Meeting
DESCRIPTION:This is a peer-led recovery group whose mission is to support individuals on their path of recovery from addiction.
URL:http://graceumcmoorhead.org/event/never-alone-na-meeting-40/
CATEGORIES:Outreach
END:VEVENT
BEGIN:VEVENT
DTSTART;TZID=America/Chicago:20261005T090000
DTEND;TZID=America/Chicago:20261005T090000
DTSTAMP:20260421T214227
CREATED:20260201T225044Z
LAST-MODIFIED:20260201T225044Z
UID:2023-1791190800-1791190800@graceumcmoorhead.org
SUMMARY:REC Office Hours
DESCRIPTION:9 am – 4 pm  \nAt REC\, we’re here to support your recovery journey with peer support services. Our programs and support groups aim to make long-term recovery accessible for everyone. You’re not alone; we’re here to help.
URL:http://graceumcmoorhead.org/event/rec-office-hours-169/
CATEGORIES:Outreach
END:VEVENT
BEGIN:VEVENT
DTSTART;TZID=America/Chicago:20261005T130000
DTEND;TZID=America/Chicago:20261005T130000
DTSTAMP:20260421T214227
CREATED:20260127T005713Z
LAST-MODIFIED:20260127T005713Z
UID:841-1791205200-1791205200@graceumcmoorhead.org
SUMMARY:Quilting Ministry
DESCRIPTION:Our quilting group plans to meet this afternoon at the church\, contingent on the weather. Should you have any inquiries regarding today’s meeting\, please contact the church office.
URL:http://graceumcmoorhead.org/event/quilting-ministry-40/
CATEGORIES:Ministry
ATTACH;FMTTYPE=image/png:http://graceumcmoorhead.org/wp-content/uploads/2026/01/Quilters-Graphic-1-e1769475176168.png
END:VEVENT
BEGIN:VEVENT
DTSTART;TZID=America/Chicago:20261006T090000
DTEND;TZID=America/Chicago:20261006T090000
DTSTAMP:20260421T214227
CREATED:20260201T225044Z
LAST-MODIFIED:20260201T225044Z
UID:2024-1791277200-1791277200@graceumcmoorhead.org
SUMMARY:REC Office Hours
DESCRIPTION:9 am – 4 pm  \nAt REC\, we’re here to support your recovery journey with peer support services. Our programs and support groups aim to make long-term recovery accessible for everyone. You’re not alone; we’re here to help.
URL:http://graceumcmoorhead.org/event/rec-office-hours-170/
CATEGORIES:Outreach
END:VEVENT
BEGIN:VEVENT
DTSTART;TZID=America/Chicago:20261006T190000
DTEND;TZID=America/Chicago:20261006T190000
DTSTAMP:20260421T214227
CREATED:20260130T000041Z
LAST-MODIFIED:20260130T000041Z
UID:1079-1791313200-1791313200@graceumcmoorhead.org
SUMMARY:AA Meeting
DESCRIPTION:*In-person \n*closed \n*Daily reflections \nClosed meetings are for AA members only\, or those who have a drinking problem and “have a desire to stop drinking”.
URL:http://graceumcmoorhead.org/event/aa-meeting-40/
CATEGORIES:Outreach
ATTACH;FMTTYPE=image/jpeg:http://graceumcmoorhead.org/wp-content/uploads/2026/01/aa-jet-272x133-1.jpg
END:VEVENT
BEGIN:VEVENT
DTSTART;TZID=America/Chicago:20261007T090000
DTEND;TZID=America/Chicago:20261007T090000
DTSTAMP:20260421T214227
CREATED:20260201T225044Z
LAST-MODIFIED:20260201T225044Z
UID:2025-1791363600-1791363600@graceumcmoorhead.org
SUMMARY:REC Office Hours
DESCRIPTION:9 am – 4 pm  \nAt REC\, we’re here to support your recovery journey with peer support services. Our programs and support groups aim to make long-term recovery accessible for everyone. You’re not alone; we’re here to help.
URL:http://graceumcmoorhead.org/event/rec-office-hours-171/
CATEGORIES:Outreach
END:VEVENT
BEGIN:VEVENT
DTSTART;TZID=America/Chicago:20261007T163000
DTEND;TZID=America/Chicago:20261007T163000
DTSTAMP:20260421T214227
CREATED:20260127T003428Z
LAST-MODIFIED:20260127T003507Z
UID:736-1791390600-1791390600@graceumcmoorhead.org
SUMMARY:Prayer Shawl Ministry
DESCRIPTION:Our prayer shawl ministry is meeting this afternoon at the church weather permitting.  If you have questions as to whether or not this group is meeting today please contact the church office.
URL:http://graceumcmoorhead.org/event/prayer-shawl-ministry-11/
CATEGORIES:Ministry
ATTACH;FMTTYPE=image/png:http://graceumcmoorhead.org/wp-content/uploads/2026/01/prayer-shawl-1-e1769473876288.png
END:VEVENT
BEGIN:VEVENT
DTSTART;TZID=America/Chicago:20261007T201500
DTEND;TZID=America/Chicago:20261007T201500
DTSTAMP:20260421T214227
CREATED:20260203T183231Z
LAST-MODIFIED:20260203T183231Z
UID:2545-1791404100-1791404100@graceumcmoorhead.org
SUMMARY:NA Meeting
DESCRIPTION:This is a peer-led recovery group whose mission is to support individuals on their path of recovery from addiction.
URL:http://graceumcmoorhead.org/event/na-meeting-40/
CATEGORIES:Outreach
END:VEVENT
BEGIN:VEVENT
DTSTART;TZID=America/Chicago:20261008T090000
DTEND;TZID=America/Chicago:20261008T090000
DTSTAMP:20260421T214227
CREATED:20260201T225044Z
LAST-MODIFIED:20260201T225044Z
UID:2026-1791450000-1791450000@graceumcmoorhead.org
SUMMARY:REC Office Hours
DESCRIPTION:9 am – 4 pm  \nAt REC\, we’re here to support your recovery journey with peer support services. Our programs and support groups aim to make long-term recovery accessible for everyone. You’re not alone; we’re here to help.
URL:http://graceumcmoorhead.org/event/rec-office-hours-172/
CATEGORIES:Outreach
END:VEVENT
BEGIN:VEVENT
DTSTART;TZID=America/Chicago:20261008T100000
DTEND;TZID=America/Chicago:20261008T100000
DTSTAMP:20260421T214227
CREATED:20260130T224641Z
LAST-MODIFIED:20260130T224641Z
UID:1409-1791453600-1791453600@graceumcmoorhead.org
SUMMARY:The Connection
DESCRIPTION:We’re a friendly group that gets together every week to connect! There’s no set agenda or specific topic; sometimes we all chat together\, and other times there are several conversations happening at once. There have even been times when we’ve enjoyed a fun card game! We’d love for you to join us—our coffee and cocoa are always hot\, and the laughs are endless!
URL:http://graceumcmoorhead.org/event/the-connection-60/
CATEGORIES:Ministry
ATTACH;FMTTYPE=image/png:http://graceumcmoorhead.org/wp-content/uploads/2026/01/The-Connection-1-e1769808415140-RZyckH.png
END:VEVENT
BEGIN:VEVENT
DTSTART;TZID=America/Chicago:20261008T190000
DTEND;TZID=America/Chicago:20261008T190000
DTSTAMP:20260421T214227
CREATED:20260203T183330Z
LAST-MODIFIED:20260203T183330Z
UID:2600-1791486000-1791486000@graceumcmoorhead.org
SUMMARY:NA Meeting
DESCRIPTION:This is a peer-led recovery group whose mission is to support individuals on their path of recovery from addiction.
URL:http://graceumcmoorhead.org/event/na-meeting-94/
CATEGORIES:Outreach
END:VEVENT
BEGIN:VEVENT
DTSTART;TZID=America/Chicago:20261009T090000
DTEND;TZID=America/Chicago:20261009T090000
DTSTAMP:20260421T214227
CREATED:20260201T225045Z
LAST-MODIFIED:20260201T225045Z
UID:2027-1791536400-1791536400@graceumcmoorhead.org
SUMMARY:REC Office Hours
DESCRIPTION:9 am – 4 pm  \nAt REC\, we’re here to support your recovery journey with peer support services. Our programs and support groups aim to make long-term recovery accessible for everyone. You’re not alone; we’re here to help.
URL:http://graceumcmoorhead.org/event/rec-office-hours-173/
CATEGORIES:Outreach
END:VEVENT
BEGIN:VEVENT
DTSTART;TZID=America/Chicago:20261010T080000
DTEND;TZID=America/Chicago:20261010T140000
DTSTAMP:20260421T214227
CREATED:20260306T190431Z
LAST-MODIFIED:20260306T192510Z
UID:3129-1791619200-1791640800@graceumcmoorhead.org
SUMMARY:Fall Festival
DESCRIPTION:We’re excited to announce that this year\, we’re bringing back our delicious homemade buttermilk cake donuts! If you’re on the hunt for the best buttermilk donuts in town\, we’d love for you to stop by and grab a dozen or two. Treat yourself—you deserve it!
URL:http://graceumcmoorhead.org/event/fall-festival/
CATEGORIES:Ministry
ATTACH;FMTTYPE=image/png:http://graceumcmoorhead.org/wp-content/uploads/2026/03/fall-festival-2026-1-e1772825265877.png
END:VEVENT
END:VCALENDAR