BEGIN:VCALENDAR
VERSION:2.0
PRODID:-//Grace UMC- Moorhead, MN - ECPv6.15.20//NONSGML v1.0//EN
CALSCALE:GREGORIAN
METHOD:PUBLISH
X-ORIGINAL-URL:http://graceumcmoorhead.org
X-WR-CALDESC:Events for Grace UMC- Moorhead, MN
REFRESH-INTERVAL;VALUE=DURATION:PT1H
X-Robots-Tag:noindex
X-PUBLISHED-TTL:PT1H
BEGIN:VTIMEZONE
TZID:America/Chicago
BEGIN:DAYLIGHT
TZOFFSETFROM:-0600
TZOFFSETTO:-0500
TZNAME:CDT
DTSTART:20250309T080000
END:DAYLIGHT
BEGIN:STANDARD
TZOFFSETFROM:-0500
TZOFFSETTO:-0600
TZNAME:CST
DTSTART:20251102T070000
END:STANDARD
BEGIN:DAYLIGHT
TZOFFSETFROM:-0600
TZOFFSETTO:-0500
TZNAME:CDT
DTSTART:20260308T080000
END:DAYLIGHT
BEGIN:STANDARD
TZOFFSETFROM:-0500
TZOFFSETTO:-0600
TZNAME:CST
DTSTART:20261101T070000
END:STANDARD
BEGIN:DAYLIGHT
TZOFFSETFROM:-0600
TZOFFSETTO:-0500
TZNAME:CDT
DTSTART:20270314T080000
END:DAYLIGHT
BEGIN:STANDARD
TZOFFSETFROM:-0500
TZOFFSETTO:-0600
TZNAME:CST
DTSTART:20271107T070000
END:STANDARD
END:VTIMEZONE
BEGIN:VEVENT
DTSTART;TZID=America/Chicago:20260908T090000
DTEND;TZID=America/Chicago:20260908T090000
DTSTAMP:20260421T165940
CREATED:20260201T225024Z
LAST-MODIFIED:20260201T225024Z
UID:2004-1788858000-1788858000@graceumcmoorhead.org
SUMMARY:REC Office Hours
DESCRIPTION:9 am – 4 pm  \nAt REC\, we’re here to support your recovery journey with peer support services. Our programs and support groups aim to make long-term recovery accessible for everyone. You’re not alone; we’re here to help.
URL:http://graceumcmoorhead.org/event/rec-office-hours-150/
CATEGORIES:Outreach
END:VEVENT
BEGIN:VEVENT
DTSTART;TZID=America/Chicago:20260908T190000
DTEND;TZID=America/Chicago:20260908T190000
DTSTAMP:20260421T165940
CREATED:20260130T000041Z
LAST-MODIFIED:20260130T000041Z
UID:1075-1788894000-1788894000@graceumcmoorhead.org
SUMMARY:AA Meeting
DESCRIPTION:*In-person \n*closed \n*Daily reflections \nClosed meetings are for AA members only\, or those who have a drinking problem and “have a desire to stop drinking”.
URL:http://graceumcmoorhead.org/event/aa-meeting-36/
CATEGORIES:Outreach
ATTACH;FMTTYPE=image/jpeg:http://graceumcmoorhead.org/wp-content/uploads/2026/01/aa-jet-272x133-1.jpg
END:VEVENT
BEGIN:VEVENT
DTSTART;TZID=America/Chicago:20260909T090000
DTEND;TZID=America/Chicago:20260909T090000
DTSTAMP:20260421T165940
CREATED:20260201T225024Z
LAST-MODIFIED:20260201T225024Z
UID:2005-1788944400-1788944400@graceumcmoorhead.org
SUMMARY:REC Office Hours
DESCRIPTION:9 am – 4 pm  \nAt REC\, we’re here to support your recovery journey with peer support services. Our programs and support groups aim to make long-term recovery accessible for everyone. You’re not alone; we’re here to help.
URL:http://graceumcmoorhead.org/event/rec-office-hours-151/
CATEGORIES:Outreach
END:VEVENT
BEGIN:VEVENT
DTSTART;TZID=America/Chicago:20260909T163000
DTEND;TZID=America/Chicago:20260909T163000
DTSTAMP:20260421T165940
CREATED:20260127T003428Z
LAST-MODIFIED:20260127T003507Z
UID:732-1788971400-1788971400@graceumcmoorhead.org
SUMMARY:Prayer Shawl Ministry
DESCRIPTION:Our prayer shawl ministry is meeting this afternoon at the church weather permitting.  If you have questions as to whether or not this group is meeting today please contact the church office.
URL:http://graceumcmoorhead.org/event/prayer-shawl-ministry-15/
CATEGORIES:Ministry
ATTACH;FMTTYPE=image/png:http://graceumcmoorhead.org/wp-content/uploads/2026/01/prayer-shawl-1-e1769473876288.png
END:VEVENT
BEGIN:VEVENT
DTSTART;TZID=America/Chicago:20260909T201500
DTEND;TZID=America/Chicago:20260909T201500
DTSTAMP:20260421T165940
CREATED:20260203T183231Z
LAST-MODIFIED:20260203T183231Z
UID:2541-1788984900-1788984900@graceumcmoorhead.org
SUMMARY:NA Meeting
DESCRIPTION:This is a peer-led recovery group whose mission is to support individuals on their path of recovery from addiction.
URL:http://graceumcmoorhead.org/event/na-meeting-36/
CATEGORIES:Outreach
END:VEVENT
BEGIN:VEVENT
DTSTART;TZID=America/Chicago:20260910T090000
DTEND;TZID=America/Chicago:20260910T090000
DTSTAMP:20260421T165940
CREATED:20260201T225024Z
LAST-MODIFIED:20260201T225024Z
UID:2006-1789030800-1789030800@graceumcmoorhead.org
SUMMARY:REC Office Hours
DESCRIPTION:9 am – 4 pm  \nAt REC\, we’re here to support your recovery journey with peer support services. Our programs and support groups aim to make long-term recovery accessible for everyone. You’re not alone; we’re here to help.
URL:http://graceumcmoorhead.org/event/rec-office-hours-152/
CATEGORIES:Outreach
END:VEVENT
BEGIN:VEVENT
DTSTART;TZID=America/Chicago:20260910T100000
DTEND;TZID=America/Chicago:20260910T100000
DTSTAMP:20260421T165940
CREATED:20260130T224641Z
LAST-MODIFIED:20260130T224641Z
UID:1405-1789034400-1789034400@graceumcmoorhead.org
SUMMARY:The Connection
DESCRIPTION:We’re a friendly group that gets together every week to connect! There’s no set agenda or specific topic; sometimes we all chat together\, and other times there are several conversations happening at once. There have even been times when we’ve enjoyed a fun card game! We’d love for you to join us—our coffee and cocoa are always hot\, and the laughs are endless!
URL:http://graceumcmoorhead.org/event/the-connection-64/
CATEGORIES:Ministry
ATTACH;FMTTYPE=image/png:http://graceumcmoorhead.org/wp-content/uploads/2026/01/The-Connection-1-e1769808415140-RZyckH.png
END:VEVENT
BEGIN:VEVENT
DTSTART;TZID=America/Chicago:20260910T190000
DTEND;TZID=America/Chicago:20260910T190000
DTSTAMP:20260421T165940
CREATED:20260203T183301Z
LAST-MODIFIED:20260203T183301Z
UID:2596-1789066800-1789066800@graceumcmoorhead.org
SUMMARY:NA Meeting
DESCRIPTION:This is a peer-led recovery group whose mission is to support individuals on their path of recovery from addiction.
URL:http://graceumcmoorhead.org/event/na-meeting-90/
CATEGORIES:Outreach
END:VEVENT
BEGIN:VEVENT
DTSTART;TZID=America/Chicago:20260911T090000
DTEND;TZID=America/Chicago:20260911T090000
DTSTAMP:20260421T165940
CREATED:20260201T225024Z
LAST-MODIFIED:20260201T225024Z
UID:2007-1789117200-1789117200@graceumcmoorhead.org
SUMMARY:REC Office Hours
DESCRIPTION:9 am – 4 pm  \nAt REC\, we’re here to support your recovery journey with peer support services. Our programs and support groups aim to make long-term recovery accessible for everyone. You’re not alone; we’re here to help.
URL:http://graceumcmoorhead.org/event/rec-office-hours-153/
CATEGORIES:Outreach
END:VEVENT
BEGIN:VEVENT
DTSTART;TZID=America/Chicago:20260912T110000
DTEND;TZID=America/Chicago:20260912T110000
DTSTAMP:20260421T165940
CREATED:20260203T034603Z
LAST-MODIFIED:20260203T170547Z
UID:2433-1789210800-1789210800@graceumcmoorhead.org
SUMMARY:Recovery Dharma
DESCRIPTION:Recovery Dharma is a peer-led\, grass-roots\, democratically-structured organization. Our mission is to support individuals on their path of recovery from addiction using Buddhist practices and principles. We believe that the traditional Buddhist teachings\, often referred to as the Dharma\, offer a powerful approach to healing from addiction and living a life of true freedom.  \nQuoted from the Recovery Dharma website.
URL:http://graceumcmoorhead.org/event/recovery-dharma-37/
CATEGORIES:Outreach
END:VEVENT
BEGIN:VEVENT
DTSTART;TZID=America/Chicago:20260912T120000
DTEND;TZID=America/Chicago:20260912T120000
DTSTAMP:20260421T165940
CREATED:20260303T222738Z
LAST-MODIFIED:20260303T222738Z
UID:3044-1789214400-1789214400@graceumcmoorhead.org
SUMMARY:Never Alone NA Meeting
DESCRIPTION:This is a peer-led recovery group whose mission is to support individuals on their path of recovery from addiction.
URL:http://graceumcmoorhead.org/event/never-alone-na-meeting-37/
CATEGORIES:Outreach
END:VEVENT
BEGIN:VEVENT
DTSTART;TZID=America/Chicago:20260914T090000
DTEND;TZID=America/Chicago:20260914T090000
DTSTAMP:20260421T165940
CREATED:20260201T225024Z
LAST-MODIFIED:20260201T225024Z
UID:2008-1789376400-1789376400@graceumcmoorhead.org
SUMMARY:REC Office Hours
DESCRIPTION:9 am – 4 pm  \nAt REC\, we’re here to support your recovery journey with peer support services. Our programs and support groups aim to make long-term recovery accessible for everyone. You’re not alone; we’re here to help.
URL:http://graceumcmoorhead.org/event/rec-office-hours-154/
CATEGORIES:Outreach
END:VEVENT
BEGIN:VEVENT
DTSTART;TZID=America/Chicago:20260914T130000
DTEND;TZID=America/Chicago:20260914T130000
DTSTAMP:20260421T165940
CREATED:20260127T005713Z
LAST-MODIFIED:20260127T005713Z
UID:838-1789390800-1789390800@graceumcmoorhead.org
SUMMARY:Quilting Ministry
DESCRIPTION:Our quilting group plans to meet this afternoon at the church\, contingent on the weather. Should you have any inquiries regarding today’s meeting\, please contact the church office.
URL:http://graceumcmoorhead.org/event/quilting-ministry-37/
CATEGORIES:Ministry
ATTACH;FMTTYPE=image/png:http://graceumcmoorhead.org/wp-content/uploads/2026/01/Quilters-Graphic-1-e1769475176168.png
END:VEVENT
BEGIN:VEVENT
DTSTART;TZID=America/Chicago:20260915T090000
DTEND;TZID=America/Chicago:20260915T090000
DTSTAMP:20260421T165940
CREATED:20260201T225024Z
LAST-MODIFIED:20260201T225024Z
UID:2009-1789462800-1789462800@graceumcmoorhead.org
SUMMARY:REC Office Hours
DESCRIPTION:9 am – 4 pm  \nAt REC\, we’re here to support your recovery journey with peer support services. Our programs and support groups aim to make long-term recovery accessible for everyone. You’re not alone; we’re here to help.
URL:http://graceumcmoorhead.org/event/rec-office-hours-155/
CATEGORIES:Outreach
END:VEVENT
BEGIN:VEVENT
DTSTART;TZID=America/Chicago:20260915T190000
DTEND;TZID=America/Chicago:20260915T190000
DTSTAMP:20260421T165940
CREATED:20260130T000041Z
LAST-MODIFIED:20260130T000041Z
UID:1076-1789498800-1789498800@graceumcmoorhead.org
SUMMARY:AA Meeting
DESCRIPTION:*In-person \n*closed \n*Daily reflections \nClosed meetings are for AA members only\, or those who have a drinking problem and “have a desire to stop drinking”.
URL:http://graceumcmoorhead.org/event/aa-meeting-37/
CATEGORIES:Outreach
ATTACH;FMTTYPE=image/jpeg:http://graceumcmoorhead.org/wp-content/uploads/2026/01/aa-jet-272x133-1.jpg
END:VEVENT
BEGIN:VEVENT
DTSTART;TZID=America/Chicago:20260916T073000
DTEND;TZID=America/Chicago:20260916T073000
DTSTAMP:20260421T165940
CREATED:20260217T164458Z
LAST-MODIFIED:20260217T164458Z
UID:2936-1789543800-1789543800@graceumcmoorhead.org
SUMMARY:We're Making Donuts
DESCRIPTION:Grace is affectionately known as “The Donut Church”! Beginning January 7 and continuing every other Wednesday until mid-November\, a group gathers in the kitchen to make handmade\, old-fashioned buttermilk cake donuts. They’re only $10 per dozen. Since the batch size is limited\, please place your orders online or by calling the church office at 218-233-1857 before Tuesday of this week.
URL:http://graceumcmoorhead.org/event/were-making-donuts-65/
CATEGORIES:Ministry
ATTACH;FMTTYPE=image/png:http://graceumcmoorhead.org/wp-content/uploads/2026/01/donut-happiness-272x184-1.png
END:VEVENT
BEGIN:VEVENT
DTSTART;TZID=America/Chicago:20260916T090000
DTEND;TZID=America/Chicago:20260916T090000
DTSTAMP:20260421T165940
CREATED:20260201T225024Z
LAST-MODIFIED:20260201T225024Z
UID:2010-1789549200-1789549200@graceumcmoorhead.org
SUMMARY:REC Office Hours
DESCRIPTION:9 am – 4 pm  \nAt REC\, we’re here to support your recovery journey with peer support services. Our programs and support groups aim to make long-term recovery accessible for everyone. You’re not alone; we’re here to help.
URL:http://graceumcmoorhead.org/event/rec-office-hours-156/
CATEGORIES:Outreach
END:VEVENT
BEGIN:VEVENT
DTSTART;TZID=America/Chicago:20260916T163000
DTEND;TZID=America/Chicago:20260916T163000
DTSTAMP:20260421T165940
CREATED:20260127T003428Z
LAST-MODIFIED:20260127T003507Z
UID:733-1789576200-1789576200@graceumcmoorhead.org
SUMMARY:Prayer Shawl Ministry
DESCRIPTION:Our prayer shawl ministry is meeting this afternoon at the church weather permitting.  If you have questions as to whether or not this group is meeting today please contact the church office.
URL:http://graceumcmoorhead.org/event/prayer-shawl-ministry-14/
CATEGORIES:Ministry
ATTACH;FMTTYPE=image/png:http://graceumcmoorhead.org/wp-content/uploads/2026/01/prayer-shawl-1-e1769473876288.png
END:VEVENT
BEGIN:VEVENT
DTSTART;TZID=America/Chicago:20260916T201500
DTEND;TZID=America/Chicago:20260916T201500
DTSTAMP:20260421T165940
CREATED:20260203T183231Z
LAST-MODIFIED:20260203T183231Z
UID:2542-1789589700-1789589700@graceumcmoorhead.org
SUMMARY:NA Meeting
DESCRIPTION:This is a peer-led recovery group whose mission is to support individuals on their path of recovery from addiction.
URL:http://graceumcmoorhead.org/event/na-meeting-37/
CATEGORIES:Outreach
END:VEVENT
BEGIN:VEVENT
DTSTART;TZID=America/Chicago:20260917T090000
DTEND;TZID=America/Chicago:20260917T090000
DTSTAMP:20260421T165940
CREATED:20260201T225024Z
LAST-MODIFIED:20260201T225024Z
UID:2011-1789635600-1789635600@graceumcmoorhead.org
SUMMARY:REC Office Hours
DESCRIPTION:9 am – 4 pm  \nAt REC\, we’re here to support your recovery journey with peer support services. Our programs and support groups aim to make long-term recovery accessible for everyone. You’re not alone; we’re here to help.
URL:http://graceumcmoorhead.org/event/rec-office-hours-157/
CATEGORIES:Outreach
END:VEVENT
BEGIN:VEVENT
DTSTART;TZID=America/Chicago:20260917T100000
DTEND;TZID=America/Chicago:20260917T100000
DTSTAMP:20260421T165940
CREATED:20260130T224641Z
LAST-MODIFIED:20260130T224641Z
UID:1406-1789639200-1789639200@graceumcmoorhead.org
SUMMARY:The Connection
DESCRIPTION:We’re a friendly group that gets together every week to connect! There’s no set agenda or specific topic; sometimes we all chat together\, and other times there are several conversations happening at once. There have even been times when we’ve enjoyed a fun card game! We’d love for you to join us—our coffee and cocoa are always hot\, and the laughs are endless!
URL:http://graceumcmoorhead.org/event/the-connection-63/
CATEGORIES:Ministry
ATTACH;FMTTYPE=image/png:http://graceumcmoorhead.org/wp-content/uploads/2026/01/The-Connection-1-e1769808415140-RZyckH.png
END:VEVENT
BEGIN:VEVENT
DTSTART;TZID=America/Chicago:20260917T190000
DTEND;TZID=America/Chicago:20260917T190000
DTSTAMP:20260421T165940
CREATED:20260203T183329Z
LAST-MODIFIED:20260203T183329Z
UID:2597-1789671600-1789671600@graceumcmoorhead.org
SUMMARY:NA Meeting
DESCRIPTION:This is a peer-led recovery group whose mission is to support individuals on their path of recovery from addiction.
URL:http://graceumcmoorhead.org/event/na-meeting-91/
CATEGORIES:Outreach
END:VEVENT
BEGIN:VEVENT
DTSTART;TZID=America/Chicago:20260918T090000
DTEND;TZID=America/Chicago:20260918T090000
DTSTAMP:20260421T165940
CREATED:20260201T225024Z
LAST-MODIFIED:20260201T225024Z
UID:2012-1789722000-1789722000@graceumcmoorhead.org
SUMMARY:REC Office Hours
DESCRIPTION:9 am – 4 pm  \nAt REC\, we’re here to support your recovery journey with peer support services. Our programs and support groups aim to make long-term recovery accessible for everyone. You’re not alone; we’re here to help.
URL:http://graceumcmoorhead.org/event/rec-office-hours-158/
CATEGORIES:Outreach
END:VEVENT
BEGIN:VEVENT
DTSTART;TZID=America/Chicago:20260919T110000
DTEND;TZID=America/Chicago:20260919T110000
DTSTAMP:20260421T165940
CREATED:20260203T034604Z
LAST-MODIFIED:20260203T170547Z
UID:2434-1789815600-1789815600@graceumcmoorhead.org
SUMMARY:Recovery Dharma
DESCRIPTION:Recovery Dharma is a peer-led\, grass-roots\, democratically-structured organization. Our mission is to support individuals on their path of recovery from addiction using Buddhist practices and principles. We believe that the traditional Buddhist teachings\, often referred to as the Dharma\, offer a powerful approach to healing from addiction and living a life of true freedom.  \nQuoted from the Recovery Dharma website.
URL:http://graceumcmoorhead.org/event/recovery-dharma-38/
CATEGORIES:Outreach
END:VEVENT
BEGIN:VEVENT
DTSTART;TZID=America/Chicago:20260919T120000
DTEND;TZID=America/Chicago:20260919T120000
DTSTAMP:20260421T165940
CREATED:20260303T222738Z
LAST-MODIFIED:20260303T222738Z
UID:3045-1789819200-1789819200@graceumcmoorhead.org
SUMMARY:Never Alone NA Meeting
DESCRIPTION:This is a peer-led recovery group whose mission is to support individuals on their path of recovery from addiction.
URL:http://graceumcmoorhead.org/event/never-alone-na-meeting-38/
CATEGORIES:Outreach
END:VEVENT
BEGIN:VEVENT
DTSTART;TZID=America/Chicago:20260921T090000
DTEND;TZID=America/Chicago:20260921T090000
DTSTAMP:20260421T165940
CREATED:20260201T225024Z
LAST-MODIFIED:20260201T225024Z
UID:2013-1789981200-1789981200@graceumcmoorhead.org
SUMMARY:REC Office Hours
DESCRIPTION:9 am – 4 pm  \nAt REC\, we’re here to support your recovery journey with peer support services. Our programs and support groups aim to make long-term recovery accessible for everyone. You’re not alone; we’re here to help.
URL:http://graceumcmoorhead.org/event/rec-office-hours-159/
CATEGORIES:Outreach
END:VEVENT
BEGIN:VEVENT
DTSTART;TZID=America/Chicago:20260921T130000
DTEND;TZID=America/Chicago:20260921T130000
DTSTAMP:20260421T165940
CREATED:20260127T005713Z
LAST-MODIFIED:20260127T005713Z
UID:839-1789995600-1789995600@graceumcmoorhead.org
SUMMARY:Quilting Ministry
DESCRIPTION:Our quilting group plans to meet this afternoon at the church\, contingent on the weather. Should you have any inquiries regarding today’s meeting\, please contact the church office.
URL:http://graceumcmoorhead.org/event/quilting-ministry-38/
CATEGORIES:Ministry
ATTACH;FMTTYPE=image/png:http://graceumcmoorhead.org/wp-content/uploads/2026/01/Quilters-Graphic-1-e1769475176168.png
END:VEVENT
BEGIN:VEVENT
DTSTART;TZID=America/Chicago:20260922T090000
DTEND;TZID=America/Chicago:20260922T090000
DTSTAMP:20260421T165940
CREATED:20260201T225024Z
LAST-MODIFIED:20260201T225024Z
UID:2014-1790067600-1790067600@graceumcmoorhead.org
SUMMARY:REC Office Hours
DESCRIPTION:9 am – 4 pm  \nAt REC\, we’re here to support your recovery journey with peer support services. Our programs and support groups aim to make long-term recovery accessible for everyone. You’re not alone; we’re here to help.
URL:http://graceumcmoorhead.org/event/rec-office-hours-160/
CATEGORIES:Outreach
END:VEVENT
BEGIN:VEVENT
DTSTART;TZID=America/Chicago:20260922T190000
DTEND;TZID=America/Chicago:20260922T190000
DTSTAMP:20260421T165940
CREATED:20260130T000041Z
LAST-MODIFIED:20260130T000041Z
UID:1077-1790103600-1790103600@graceumcmoorhead.org
SUMMARY:AA Meeting
DESCRIPTION:*In-person \n*closed \n*Daily reflections \nClosed meetings are for AA members only\, or those who have a drinking problem and “have a desire to stop drinking”.
URL:http://graceumcmoorhead.org/event/aa-meeting-38/
CATEGORIES:Outreach
ATTACH;FMTTYPE=image/jpeg:http://graceumcmoorhead.org/wp-content/uploads/2026/01/aa-jet-272x133-1.jpg
END:VEVENT
BEGIN:VEVENT
DTSTART;TZID=America/Chicago:20260923T090000
DTEND;TZID=America/Chicago:20260923T090000
DTSTAMP:20260421T165940
CREATED:20260201T225024Z
LAST-MODIFIED:20260201T225024Z
UID:2015-1790154000-1790154000@graceumcmoorhead.org
SUMMARY:REC Office Hours
DESCRIPTION:9 am – 4 pm  \nAt REC\, we’re here to support your recovery journey with peer support services. Our programs and support groups aim to make long-term recovery accessible for everyone. You’re not alone; we’re here to help.
URL:http://graceumcmoorhead.org/event/rec-office-hours-161/
CATEGORIES:Outreach
END:VEVENT
END:VCALENDAR