BEGIN:VCALENDAR
VERSION:2.0
PRODID:-//Grace UMC- Moorhead, MN - ECPv6.15.20//NONSGML v1.0//EN
CALSCALE:GREGORIAN
METHOD:PUBLISH
X-ORIGINAL-URL:http://graceumcmoorhead.org
X-WR-CALDESC:Events for Grace UMC- Moorhead, MN
REFRESH-INTERVAL;VALUE=DURATION:PT1H
X-Robots-Tag:noindex
X-PUBLISHED-TTL:PT1H
BEGIN:VTIMEZONE
TZID:America/Chicago
BEGIN:DAYLIGHT
TZOFFSETFROM:-0600
TZOFFSETTO:-0500
TZNAME:CDT
DTSTART:20250309T080000
END:DAYLIGHT
BEGIN:STANDARD
TZOFFSETFROM:-0500
TZOFFSETTO:-0600
TZNAME:CST
DTSTART:20251102T070000
END:STANDARD
BEGIN:DAYLIGHT
TZOFFSETFROM:-0600
TZOFFSETTO:-0500
TZNAME:CDT
DTSTART:20260308T080000
END:DAYLIGHT
BEGIN:STANDARD
TZOFFSETFROM:-0500
TZOFFSETTO:-0600
TZNAME:CST
DTSTART:20261101T070000
END:STANDARD
BEGIN:DAYLIGHT
TZOFFSETFROM:-0600
TZOFFSETTO:-0500
TZNAME:CDT
DTSTART:20270314T080000
END:DAYLIGHT
BEGIN:STANDARD
TZOFFSETFROM:-0500
TZOFFSETTO:-0600
TZNAME:CST
DTSTART:20271107T070000
END:STANDARD
END:VTIMEZONE
BEGIN:VEVENT
DTSTART;TZID=America/Chicago:20260112T130000
DTEND;TZID=America/Chicago:20260112T130000
DTSTAMP:20260421T061524
CREATED:20260127T005635Z
LAST-MODIFIED:20260127T005635Z
UID:803-1768222800-1768222800@graceumcmoorhead.org
SUMMARY:Quilting Ministry
DESCRIPTION:Our quilting group plans to meet this afternoon at the church\, contingent on the weather. Should you have any inquiries regarding today’s meeting\, please contact the church office.
URL:http://graceumcmoorhead.org/event/quilting-ministry-2/
CATEGORIES:Ministry
ATTACH;FMTTYPE=image/png:http://graceumcmoorhead.org/wp-content/uploads/2026/01/Quilters-Graphic-1-e1769475176168.png
END:VEVENT
BEGIN:VEVENT
DTSTART;TZID=America/Chicago:20260110T120000
DTEND;TZID=America/Chicago:20260110T120000
DTSTAMP:20260421T061524
CREATED:20260303T222705Z
LAST-MODIFIED:20260303T222705Z
UID:3009-1768046400-1768046400@graceumcmoorhead.org
SUMMARY:Never Alone NA Meeting
DESCRIPTION:This is a peer-led recovery group whose mission is to support individuals on their path of recovery from addiction.
URL:http://graceumcmoorhead.org/event/never-alone-na-meeting-2/
CATEGORIES:Outreach
END:VEVENT
BEGIN:VEVENT
DTSTART;TZID=America/Chicago:20260110T110000
DTEND;TZID=America/Chicago:20260110T110000
DTSTAMP:20260421T061524
CREATED:20260203T034525Z
LAST-MODIFIED:20260203T170620Z
UID:2398-1768042800-1768042800@graceumcmoorhead.org
SUMMARY:Recovery Dharma
DESCRIPTION:Recovery Dharma is a peer-led\, grass-roots\, democratically-structured organization. Our mission is to support individuals on their path of recovery from addiction using Buddhist practices and principles. We believe that the traditional Buddhist teachings\, often referred to as the Dharma\, offer a powerful approach to healing from addiction and living a life of true freedom.  \nQuoted from the Recovery Dharma website.
URL:http://graceumcmoorhead.org/event/recovery-dharma-2/
CATEGORIES:Outreach
END:VEVENT
BEGIN:VEVENT
DTSTART;TZID=America/Chicago:20260108T190000
DTEND;TZID=America/Chicago:20260108T190000
DTSTAMP:20260421T061524
CREATED:20260203T183232Z
LAST-MODIFIED:20260203T183232Z
UID:2561-1767898800-1767898800@graceumcmoorhead.org
SUMMARY:NA Meeting
DESCRIPTION:This is a peer-led recovery group whose mission is to support individuals on their path of recovery from addiction.
URL:http://graceumcmoorhead.org/event/na-meeting-55/
CATEGORIES:Outreach
END:VEVENT
BEGIN:VEVENT
DTSTART;TZID=America/Chicago:20260108T100000
DTEND;TZID=America/Chicago:20260108T100000
DTSTAMP:20260421T061524
CREATED:20260130T224713Z
LAST-MODIFIED:20260130T224713Z
UID:1369-1767866400-1767866400@graceumcmoorhead.org
SUMMARY:The Connection
DESCRIPTION:We’re a friendly group that gets together every week to connect! There’s no set agenda or specific topic; sometimes we all chat together\, and other times there are several conversations happening at once. There have even been times when we’ve enjoyed a fun card game! We’d love for you to join us—our coffee and cocoa are always hot\, and the laughs are endless!
URL:http://graceumcmoorhead.org/event/the-connection-99/
CATEGORIES:Ministry
ATTACH;FMTTYPE=image/png:http://graceumcmoorhead.org/wp-content/uploads/2026/01/The-Connection-1-e1769808415140-RZyckH.png
END:VEVENT
BEGIN:VEVENT
DTSTART;TZID=America/Chicago:20260107T201500
DTEND;TZID=America/Chicago:20260107T201500
DTSTAMP:20260421T061524
CREATED:20260203T183202Z
LAST-MODIFIED:20260203T183202Z
UID:2506-1767816900-1767816900@graceumcmoorhead.org
SUMMARY:NA Meeting
DESCRIPTION:This is a peer-led recovery group whose mission is to support individuals on their path of recovery from addiction.
URL:http://graceumcmoorhead.org/event/na-meeting/
CATEGORIES:Outreach
END:VEVENT
BEGIN:VEVENT
DTSTART;TZID=America/Chicago:20260107T163000
DTEND;TZID=America/Chicago:20260107T163000
DTSTAMP:20260421T061524
CREATED:20260127T003629Z
LAST-MODIFIED:20260127T003629Z
UID:697-1767803400-1767803400@graceumcmoorhead.org
SUMMARY:Prayer Shawl Ministry
DESCRIPTION:Our prayer shawl ministry is meeting this afternoon at the church weather permitting.  If you have questions as to whether or not this group is meeting today please contact the church office.
URL:http://graceumcmoorhead.org/event/prayer-shawl-ministry-23/
CATEGORIES:Ministry
ATTACH;FMTTYPE=image/png:http://graceumcmoorhead.org/wp-content/uploads/2026/01/prayer-shawl-1-e1769473876288.png
END:VEVENT
BEGIN:VEVENT
DTSTART;TZID=America/Chicago:20260107T073000
DTEND;TZID=America/Chicago:20260107T073000
DTSTAMP:20260421T061524
CREATED:20260217T164457Z
LAST-MODIFIED:20260217T164457Z
UID:2918-1767771000-1767771000@graceumcmoorhead.org
SUMMARY:We're Making Donuts
DESCRIPTION:Grace is affectionately known as “The Donut Church”! Beginning January 7 and continuing every other Wednesday until mid-November\, a group gathers in the kitchen to make handmade\, old-fashioned buttermilk cake donuts. They’re only $10 per dozen. Since the batch size is limited\, please place your orders online or by calling the church office at 218-233-1857 before Tuesday of this week.
URL:http://graceumcmoorhead.org/event/were-making-donuts-47/
CATEGORIES:Ministry
ATTACH;FMTTYPE=image/png:http://graceumcmoorhead.org/wp-content/uploads/2026/01/donut-happiness-272x184-1.png
END:VEVENT
BEGIN:VEVENT
DTSTART;TZID=America/Chicago:20260105T130000
DTEND;TZID=America/Chicago:20260105T130000
DTSTAMP:20260421T061524
CREATED:20260127T005635Z
LAST-MODIFIED:20260127T005635Z
UID:802-1767618000-1767618000@graceumcmoorhead.org
SUMMARY:Quilting Ministry
DESCRIPTION:Our quilting group plans to meet this afternoon at the church\, contingent on the weather. Should you have any inquiries regarding today’s meeting\, please contact the church office.
URL:http://graceumcmoorhead.org/event/quilting-ministry/
CATEGORIES:Ministry
ATTACH;FMTTYPE=image/png:http://graceumcmoorhead.org/wp-content/uploads/2026/01/Quilters-Graphic-1-e1769475176168.png
END:VEVENT
BEGIN:VEVENT
DTSTART;TZID=America/Chicago:20260103T120000
DTEND;TZID=America/Chicago:20260103T120000
DTSTAMP:20260421T061524
CREATED:20260303T222705Z
LAST-MODIFIED:20260303T222705Z
UID:3008-1767441600-1767441600@graceumcmoorhead.org
SUMMARY:Never Alone NA Meeting
DESCRIPTION:This is a peer-led recovery group whose mission is to support individuals on their path of recovery from addiction.
URL:http://graceumcmoorhead.org/event/never-alone-na-meeting/
CATEGORIES:Outreach
END:VEVENT
BEGIN:VEVENT
DTSTART;TZID=America/Chicago:20260103T110000
DTEND;TZID=America/Chicago:20260103T110000
DTSTAMP:20260421T061524
CREATED:20260203T034525Z
LAST-MODIFIED:20260203T170620Z
UID:2397-1767438000-1767438000@graceumcmoorhead.org
SUMMARY:Recovery Dharma
DESCRIPTION:Recovery Dharma is a peer-led\, grass-roots\, democratically-structured organization. Our mission is to support individuals on their path of recovery from addiction using Buddhist practices and principles. We believe that the traditional Buddhist teachings\, often referred to as the Dharma\, offer a powerful approach to healing from addiction and living a life of true freedom.  \nQuoted from the Recovery Dharma website.
URL:http://graceumcmoorhead.org/event/recovery-dharma/
CATEGORIES:Outreach
END:VEVENT
BEGIN:VEVENT
DTSTART;TZID=America/Chicago:20260101T190000
DTEND;TZID=America/Chicago:20260101T190000
DTSTAMP:20260421T061524
CREATED:20260203T183231Z
LAST-MODIFIED:20260203T183231Z
UID:2560-1767294000-1767294000@graceumcmoorhead.org
SUMMARY:NA Meeting
DESCRIPTION:This is a peer-led recovery group whose mission is to support individuals on their path of recovery from addiction.
URL:http://graceumcmoorhead.org/event/na-meeting-54/
CATEGORIES:Outreach
END:VEVENT
END:VCALENDAR